BEGIN:VCALENDAR
VERSION:2.0
PRODID:-//Surge Institute - ECPv6.15.20//NONSGML v1.0//EN
CALSCALE:GREGORIAN
METHOD:PUBLISH
X-ORIGINAL-URL:https://surgeinstitute.org
X-WR-CALDESC:Events for Surge Institute
REFRESH-INTERVAL;VALUE=DURATION:PT1H
X-Robots-Tag:noindex
X-PUBLISHED-TTL:PT1H
BEGIN:VTIMEZONE
TZID:America/Chicago
BEGIN:DAYLIGHT
TZOFFSETFROM:-0600
TZOFFSETTO:-0500
TZNAME:CDT
DTSTART:20230312T080000
END:DAYLIGHT
BEGIN:STANDARD
TZOFFSETFROM:-0500
TZOFFSETTO:-0600
TZNAME:CST
DTSTART:20231105T070000
END:STANDARD
BEGIN:DAYLIGHT
TZOFFSETFROM:-0600
TZOFFSETTO:-0500
TZNAME:CDT
DTSTART:20240310T080000
END:DAYLIGHT
BEGIN:STANDARD
TZOFFSETFROM:-0500
TZOFFSETTO:-0600
TZNAME:CST
DTSTART:20241103T070000
END:STANDARD
BEGIN:DAYLIGHT
TZOFFSETFROM:-0600
TZOFFSETTO:-0500
TZNAME:CDT
DTSTART:20250309T080000
END:DAYLIGHT
BEGIN:STANDARD
TZOFFSETFROM:-0500
TZOFFSETTO:-0600
TZNAME:CST
DTSTART:20251102T070000
END:STANDARD
END:VTIMEZONE
BEGIN:VEVENT
DTSTART;TZID=America/Chicago:20240905T170000
DTEND;TZID=America/Chicago:20240905T200000
DTSTAMP:20260421T130841
CREATED:20240827T181737Z
LAST-MODIFIED:20240827T181737Z
UID:10000036-1725555600-1725566400@surgeinstitute.org
SUMMARY:Surge & Elevated Spaces Presents: Right to Read Screening + Panel Discussion
DESCRIPTION:In collaboration with our very own alum\, Shenita Johnson (CHI19)\, and her organization Elevated Spaces\, we are excited to present a screening of Right to Read! This film shares the stories of a NAACP activist\, a teacher\, and two American families who fight to provide our youngest generation with the most foundational indicator of life-long success: the ability to read.
URL:https://surgeinstitute.org/event/surge-elevated-spaces-presents-right-to-read-screening-panel-discussion/
LOCATION:Green Line Performing Arts Center\, 329 E Garfield Blvd\, Chicago\, Illinois\, 60615
ATTACH;FMTTYPE=image/png:https://surgeinstitute.org/wp-content/uploads/2024/08/9.5.24-Event-Alumni-Elevated-Spaces16x9.png
END:VEVENT
BEGIN:VEVENT
DTSTART;TZID=America/Chicago:20240912T173000
DTEND;TZID=America/Chicago:20240912T193000
DTSTAMP:20260421T130841
CREATED:20240827T182406Z
LAST-MODIFIED:20240827T182406Z
UID:10000037-1726162200-1726169400@surgeinstitute.org
SUMMARY:It Takes a Village: Open Forum and Virtual Networking Mixer
DESCRIPTION:The purpose of this event is to provide a space for Black Principals to discuss issues currently happening in their role but also have a fun way to build community through virtual networking!
URL:https://surgeinstitute.org/event/it-takes-a-village-open-forum-and-virtual-networking-mixer/
LOCATION:Virtual
CATEGORIES:Virtual
ATTACH;FMTTYPE=image/png:https://surgeinstitute.org/wp-content/uploads/2024/08/9.12.24-Event-BPN-It-Takes-a-Village16x9.png
END:VEVENT
BEGIN:VEVENT
DTSTART;TZID=America/Chicago:20240918T170000
DTEND;TZID=America/Chicago:20240918T183000
DTSTAMP:20260421T130841
CREATED:20240827T182815Z
LAST-MODIFIED:20240827T182815Z
UID:10000038-1726678800-1726684200@surgeinstitute.org
SUMMARY:Alumni Learning Community Session: Sustainability in the Movement
DESCRIPTION:Join us for the next Alumni Learning Community session “Sustainability in the Movement”. In this session\, we will review your plans for impact through the lens of sustainability\, considering frameworks for systems thinking and how oppressive systems capitalize on burnout.
URL:https://surgeinstitute.org/event/alumni-learning-community-session-sustainability-in-the-movement/
LOCATION:Virtual
ATTACH;FMTTYPE=image/png:https://surgeinstitute.org/wp-content/uploads/2024/08/9.18.24-Event-SALC-Sustainability16x9.png
END:VEVENT
BEGIN:VEVENT
DTSTART;TZID=America/Chicago:20240925T100000
DTEND;TZID=America/Chicago:20240925T120000
DTSTAMP:20260421T130841
CREATED:20240827T183211Z
LAST-MODIFIED:20240827T183211Z
UID:10000039-1727258400-1727265600@surgeinstitute.org
SUMMARY:Professional Learning Series:  Mindset Affects Movement!
DESCRIPTION:Professional Learning series- Mindset Affects Movement! Integrating SEL into Instruction by Fostering 4 Academic Mindsets \nDate: September 25th 10am-12pm  \nAudience: Leaders in Edspace
URL:https://surgeinstitute.org/event/professional-learning-series-mindset-affects-movement/
LOCATION:Virtual
CATEGORIES:Virtual
ATTACH;FMTTYPE=image/png:https://surgeinstitute.org/wp-content/uploads/2024/08/9.25.24-Event-BPN-Professional-Learning-Series16x9.png
END:VEVENT
END:VCALENDAR