BEGIN:VCALENDAR
VERSION:2.0
PRODID:-//Surge Institute - ECPv6.15.20//NONSGML v1.0//EN
CALSCALE:GREGORIAN
METHOD:PUBLISH
X-WR-CALNAME:Surge Institute
X-ORIGINAL-URL:https://surgeinstitute.org
X-WR-CALDESC:Events for Surge Institute
REFRESH-INTERVAL;VALUE=DURATION:PT1H
X-Robots-Tag:noindex
X-PUBLISHED-TTL:PT1H
BEGIN:VTIMEZONE
TZID:America/Chicago
BEGIN:DAYLIGHT
TZOFFSETFROM:-0600
TZOFFSETTO:-0500
TZNAME:CDT
DTSTART:20250309T080000
END:DAYLIGHT
BEGIN:STANDARD
TZOFFSETFROM:-0500
TZOFFSETTO:-0600
TZNAME:CST
DTSTART:20251102T070000
END:STANDARD
BEGIN:DAYLIGHT
TZOFFSETFROM:-0600
TZOFFSETTO:-0500
TZNAME:CDT
DTSTART:20260308T080000
END:DAYLIGHT
BEGIN:STANDARD
TZOFFSETFROM:-0500
TZOFFSETTO:-0600
TZNAME:CST
DTSTART:20261101T070000
END:STANDARD
BEGIN:DAYLIGHT
TZOFFSETFROM:-0600
TZOFFSETTO:-0500
TZNAME:CDT
DTSTART:20270314T080000
END:DAYLIGHT
BEGIN:STANDARD
TZOFFSETFROM:-0500
TZOFFSETTO:-0600
TZNAME:CST
DTSTART:20271107T070000
END:STANDARD
END:VTIMEZONE
BEGIN:VEVENT
DTSTART;TZID=America/Chicago:20260324T100000
DTEND;TZID=America/Chicago:20260324T120000
DTSTAMP:20260425T061958
CREATED:20260309T185216Z
LAST-MODIFIED:20260318T190110Z
UID:10000056-1774346400-1774353600@surgeinstitute.org
SUMMARY:Clarity in Chaos: Practical Leadership for Staff Stability
DESCRIPTION:Join us for our upcoming PLS featuring guest speaker Nikki Grier (Recipient of Liberatory Leadership Award). In this session\, leaders will engage in an interactive session focused on what it means to lead through chaos while strengthening staff belonging and retention mid-year. Amid national uncertainty\, community stress\, and school-based pressures\, this session will explore practical leadership strategies to help staff feel seen\, heard\, and connected\, especially as they begin making decisions about returning next year. Participants will learn concrete moves to reinforce trust\, strengthen team culture\, and create environments where educators feel valued and supported. This session will equip leaders with actionable tools to stabilize culture and sustain commitment during complex times.
URL:https://surgeinstitute.org/event/clarity-in-chaos-practical-leadership-for-staff-stability/
CATEGORIES:Virtual
ATTACH;FMTTYPE=image/jpeg:https://surgeinstitute.org/wp-content/uploads/2026/03/BPN_PLS2.jpg
END:VEVENT
END:VCALENDAR