BEGIN:VCALENDAR
VERSION:2.0
PRODID:-//Surge Institute - ECPv6.15.20//NONSGML v1.0//EN
CALSCALE:GREGORIAN
METHOD:PUBLISH
X-WR-CALNAME:Surge Institute
X-ORIGINAL-URL:https://surgeinstitute.org
X-WR-CALDESC:Events for Surge Institute
REFRESH-INTERVAL;VALUE=DURATION:PT1H
X-Robots-Tag:noindex
X-PUBLISHED-TTL:PT1H
BEGIN:VTIMEZONE
TZID:America/New_York
BEGIN:DAYLIGHT
TZOFFSETFROM:-0500
TZOFFSETTO:-0400
TZNAME:EDT
DTSTART:20240310T070000
END:DAYLIGHT
BEGIN:STANDARD
TZOFFSETFROM:-0400
TZOFFSETTO:-0500
TZNAME:EST
DTSTART:20241103T060000
END:STANDARD
BEGIN:DAYLIGHT
TZOFFSETFROM:-0500
TZOFFSETTO:-0400
TZNAME:EDT
DTSTART:20250309T070000
END:DAYLIGHT
BEGIN:STANDARD
TZOFFSETFROM:-0400
TZOFFSETTO:-0500
TZNAME:EST
DTSTART:20251102T060000
END:STANDARD
BEGIN:DAYLIGHT
TZOFFSETFROM:-0500
TZOFFSETTO:-0400
TZNAME:EDT
DTSTART:20260308T070000
END:DAYLIGHT
BEGIN:STANDARD
TZOFFSETFROM:-0400
TZOFFSETTO:-0500
TZNAME:EST
DTSTART:20261101T060000
END:STANDARD
BEGIN:DAYLIGHT
TZOFFSETFROM:-0500
TZOFFSETTO:-0400
TZNAME:EDT
DTSTART:20270314T070000
END:DAYLIGHT
BEGIN:STANDARD
TZOFFSETFROM:-0400
TZOFFSETTO:-0500
TZNAME:EST
DTSTART:20271107T060000
END:STANDARD
END:VTIMEZONE
BEGIN:VTIMEZONE
TZID:America/Detroit
BEGIN:DAYLIGHT
TZOFFSETFROM:-0500
TZOFFSETTO:-0400
TZNAME:EDT
DTSTART:20240310T070000
END:DAYLIGHT
BEGIN:STANDARD
TZOFFSETFROM:-0400
TZOFFSETTO:-0500
TZNAME:EST
DTSTART:20241103T060000
END:STANDARD
BEGIN:DAYLIGHT
TZOFFSETFROM:-0500
TZOFFSETTO:-0400
TZNAME:EDT
DTSTART:20250309T070000
END:DAYLIGHT
BEGIN:STANDARD
TZOFFSETFROM:-0400
TZOFFSETTO:-0500
TZNAME:EST
DTSTART:20251102T060000
END:STANDARD
BEGIN:DAYLIGHT
TZOFFSETFROM:-0500
TZOFFSETTO:-0400
TZNAME:EDT
DTSTART:20260308T070000
END:DAYLIGHT
BEGIN:STANDARD
TZOFFSETFROM:-0400
TZOFFSETTO:-0500
TZNAME:EST
DTSTART:20261101T060000
END:STANDARD
END:VTIMEZONE
BEGIN:VTIMEZONE
TZID:America/Los_Angeles
BEGIN:DAYLIGHT
TZOFFSETFROM:-0800
TZOFFSETTO:-0700
TZNAME:PDT
DTSTART:20250309T100000
END:DAYLIGHT
BEGIN:STANDARD
TZOFFSETFROM:-0700
TZOFFSETTO:-0800
TZNAME:PST
DTSTART:20251102T090000
END:STANDARD
BEGIN:DAYLIGHT
TZOFFSETFROM:-0800
TZOFFSETTO:-0700
TZNAME:PDT
DTSTART:20260308T100000
END:DAYLIGHT
BEGIN:STANDARD
TZOFFSETFROM:-0700
TZOFFSETTO:-0800
TZNAME:PST
DTSTART:20261101T090000
END:STANDARD
BEGIN:DAYLIGHT
TZOFFSETFROM:-0800
TZOFFSETTO:-0700
TZNAME:PDT
DTSTART:20270314T100000
END:DAYLIGHT
BEGIN:STANDARD
TZOFFSETFROM:-0700
TZOFFSETTO:-0800
TZNAME:PST
DTSTART:20271107T090000
END:STANDARD
END:VTIMEZONE
BEGIN:VTIMEZONE
TZID:America/Chicago
BEGIN:DAYLIGHT
TZOFFSETFROM:-0600
TZOFFSETTO:-0500
TZNAME:CDT
DTSTART:20250309T080000
END:DAYLIGHT
BEGIN:STANDARD
TZOFFSETFROM:-0500
TZOFFSETTO:-0600
TZNAME:CST
DTSTART:20251102T070000
END:STANDARD
BEGIN:DAYLIGHT
TZOFFSETFROM:-0600
TZOFFSETTO:-0500
TZNAME:CDT
DTSTART:20260308T080000
END:DAYLIGHT
BEGIN:STANDARD
TZOFFSETFROM:-0500
TZOFFSETTO:-0600
TZNAME:CST
DTSTART:20261101T070000
END:STANDARD
BEGIN:DAYLIGHT
TZOFFSETFROM:-0600
TZOFFSETTO:-0500
TZNAME:CDT
DTSTART:20270314T080000
END:DAYLIGHT
BEGIN:STANDARD
TZOFFSETFROM:-0500
TZOFFSETTO:-0600
TZNAME:CST
DTSTART:20271107T070000
END:STANDARD
END:VTIMEZONE
BEGIN:VEVENT
DTSTART;TZID=America/New_York:20250424T173000
DTEND;TZID=America/New_York:20250424T193000
DTSTAMP:20260421T010729
CREATED:20250326T203823Z
LAST-MODIFIED:20250326T203823Z
UID:10000048-1745515800-1745523000@surgeinstitute.org
SUMMARY:Ignite & Inspire: Alumni & Community Leader Roundtable Discussion - Philadelphia
DESCRIPTION:Join us for a thought-provoking and impactful event that brings together Surge Academy alumni and other prominent local leaders in the Philadelphia education and youth-serving sector. This roundtable discussion focuses on the unique challenges and opportunities in the local education ecosystem\, providing a platform for dialogue\, networking\, and inspiration. \n  \nP4 Hub\n4537 Wayne Avenue\, Ste 202\,\nPhiladelphia PA 19144
URL:https://surgeinstitute.org/event/ignite-inspire-alumni-community-leader-roundtable-discussion-philadelphia/
LOCATION:PA
CATEGORIES:In-person,Surge Academy
ATTACH;FMTTYPE=image/png:https://surgeinstitute.org/wp-content/uploads/2025/03/4.24.25-Event-Recruitment-Event-PHILA-16x9-1.png
END:VEVENT
BEGIN:VEVENT
DTSTART;TZID=America/Detroit:20250605T160000
DTEND;TZID=America/Detroit:20250605T180000
DTSTAMP:20260421T010729
CREATED:20250506T171240Z
LAST-MODIFIED:20250506T171240Z
UID:10000050-1749139200-1749146400@surgeinstitute.org
SUMMARY:Surge Academy Detroit #LeadTheSurge Event
DESCRIPTION:Join us in Detroit for our #LeadtheSurge event on June 5th! As we close out our recruitment season\, we’re hosting a vibrant celebration to honor our incredible local partners and alumni. This event is also your chance to meet and engage with other prospective fellows\, who are poised to make a significant impact in the communities they serve. \nEnjoy inspiring stories\, lively networking\, and a chance to learn more about our fellowship program. It’s a fantastic opportunity to connect with like-minded individuals and be part of our movement of change.
URL:https://surgeinstitute.org/event/surge-academy-detroit-leadthesurge-event/
LOCATION:PA
CATEGORIES:Detroit,In-person,Surge Academy
ATTACH;FMTTYPE=image/png:https://surgeinstitute.org/wp-content/uploads/2025/05/6.5.25-Event-DET26-LeadTheSurge-16x9-1.png
END:VEVENT
BEGIN:VEVENT
DTSTART;TZID=America/New_York:20250612T120000
DTEND;TZID=America/New_York:20250612T130000
DTSTAMP:20260421T010729
CREATED:20250512T155053Z
LAST-MODIFIED:20250602T172546Z
UID:10000051-1749729600-1749733200@surgeinstitute.org
SUMMARY:Surge Academy Philadelphia: Real Talk and Roadmap Virtual Event
DESCRIPTION:Join us on June 12th for an important virtual conversation about the upcoming Philadelphia Surge Academy cohort. During this session\, we’ll openly discuss the recent shift in our program timeline\, what this means for prospective fellows\, and how we’re shaping the path forward to ensure a stronger\, more impactful experience for everyone involved.This is your opportunity to ask questions\, hear directly from the team\, and learn about next steps and opportunities to stay engaged!
URL:https://surgeinstitute.org/event/surge-academy-philadelphia-leadthesurge-event/
LOCATION:Virtual
CATEGORIES:Surge Academy,Virtual
ATTACH;FMTTYPE=image/png:https://surgeinstitute.org/wp-content/uploads/2025/05/6.12.25-Event-PHILA-Info-Session-16x9-1.png
END:VEVENT
BEGIN:VEVENT
DTSTART;TZID=America/New_York:20250723T120000
DTEND;TZID=America/New_York:20250723T130000
DTSTAMP:20260421T010729
CREATED:20250624T204027Z
LAST-MODIFIED:20250624T204048Z
UID:10000053-1753272000-1753275600@surgeinstitute.org
SUMMARY:Virtual Lunch & Learn: Surge Academy Philadelphia Informational Session!
DESCRIPTION:Mark your calendars for July 23 at 12pm ET and take a step towards a transformative experience with Surge Academy Philadelphia. This engaging virtual event\, hosted via Zoom\, is your gateway to learning more about our fellowship program designed to empower and uplift emerging leaders in education and social impact. \nSurge Academy is more than just a program; it’s a movement. Our mission is to cultivate a diverse community of leaders committed to creating equitable opportunities in education. In this session\, you’ll hear from alumni\, meet our Executive Director\, and get a glimpse into the impact that Surge Academy Philadelphia has on its participants and their communities.
URL:https://surgeinstitute.org/event/virtual-lunch-learn-surge-academy-philadelphia-informational-session-2/
LOCATION:Virtual
CATEGORIES:Surge Academy,Virtual
ATTACH;FMTTYPE=image/png:https://surgeinstitute.org/wp-content/uploads/2025/06/7.23.25-Event-Lunch-Learn-PHILA-16x9-1.png
END:VEVENT
BEGIN:VEVENT
DTSTART;TZID=America/New_York:20260312T170000
DTEND;TZID=America/New_York:20260312T200000
DTSTAMP:20260421T010729
CREATED:20260304T193639Z
LAST-MODIFIED:20260318T190047Z
UID:10000055-1773334800-1773345600@surgeinstitute.org
SUMMARY:Blueprints for Liberation: Keys to Building Your Freedom Dreams From the Ground Up.
DESCRIPTION:Join the Surge Academy Philadelphia cohort at its mid-retreat for a special fireside chat. This gathering is designed to be an intentional moment for meaningful conversations within the community. Our theme is “Blueprints for Liberation: Keys to Building Your Freedom Dreams From the Ground Up.” The fireside chat will offer inspiration and be a safe space for insightful dialogue.
URL:https://surgeinstitute.org/event/blueprints-for-liberation-keys-to-building-your-freedom-dreams-from-the-ground-up/
LOCATION:P4 Hub\, 4537 Wayne Ave Ste 202\, Philadelphia\, PA\, 19144\, United States
CATEGORIES:In-person,Surge Academy
ATTACH;FMTTYPE=image/jpeg:https://surgeinstitute.org/wp-content/uploads/2026/03/3.12.26-Event-PHILA26-Mid-Retreat-Fireside-Chat-Social-Media.jpg
END:VEVENT
BEGIN:VEVENT
DTSTART;TZID=America/Los_Angeles:20260327T180000
DTEND;TZID=America/Los_Angeles:20260328T120000
DTSTAMP:20260421T010729
CREATED:20260318T191418Z
LAST-MODIFIED:20260318T191418Z
UID:10000062-1774634400-1774699200@surgeinstitute.org
SUMMARY:2026 LV Alumni Weekend
DESCRIPTION:Las Vegas Alumni Weekend is almost here\, and we are so excited to be in community with each of you! Each Alumni Weekend is curated especially for our alumni and their city. Your Alumni Weekend will be no different. Our hope is that you walk away from the weekend feeling grounded\, connected\, and inspired for your collective impact in the Las Vegas community. Take a peek at what is in store for Friday night and Saturday morning! 
URL:https://surgeinstitute.org/event/2026-lv-alumni-weekend/
LOCATION:PA
CATEGORIES:In-person,Las Vegas,Surge Academy
ATTACH;FMTTYPE=image/jpeg:https://surgeinstitute.org/wp-content/uploads/2026/03/Screenshot-2026-03-18-at-2.56.37-PM.jpg
END:VEVENT
BEGIN:VEVENT
DTSTART;TZID=America/New_York:20260421T140000
DTEND;TZID=America/New_York:20260421T150000
DTSTAMP:20260421T010729
CREATED:20260406T163348Z
LAST-MODIFIED:20260415T175234Z
UID:10000066-1776780000-1776783600@surgeinstitute.org
SUMMARY:DET27 + CHI27 Ignite and Inspire
DESCRIPTION:This engaging virtual session\, hosted on Zoom\, is your opportunity to learn more about how Surge supports emerging leaders in education and social impact who are ready to grow their leadership\, deepen their impact\, and move in community. \nThis event will feature a dynamic conversation between two of Surge’s Executive Directors—Andrea Black Evans\, Executive Director of Surge Academy\, and Ulric Shannon\, Executive Director of Surge Fellowship Chicago—both of whom are also proud Surge alumni. Together\, they will share their leadership journeys\, reflect on the impact of Surge\, and offer insight into what it means to lead with purpose and in community. \nSurge is more than a program; it is a movement. We are committed to building a diverse\, values-aligned network of leaders who are working to create more equitable and just education systems. We hope you will join us and take that first step toward growing your leadership in community.
URL:https://surgeinstitute.org/event/det27-and-chi27-informational-session-ignite-inspire/
LOCATION:PA
CATEGORIES:Surge Academy,Surge Fellowship,Virtual
ATTACH;FMTTYPE=image/jpeg:https://surgeinstitute.org/wp-content/uploads/2026/04/4.21.26-Event-DET27-CHI27-Ignite-Inspire-Social-Media-2.jpg
END:VEVENT
BEGIN:VEVENT
DTSTART;TZID=America/Chicago:20260424T180000
DTEND;TZID=America/Chicago:20260425T140000
DTSTAMP:20260421T010729
CREATED:20260415T173418Z
LAST-MODIFIED:20260415T175217Z
UID:10000068-1777053600-1777125600@surgeinstitute.org
SUMMARY:Kansas City Alumni Weekend
DESCRIPTION:Join us for our next Kansas City Alumni Weekend! This alumni weekend will create space for all Surge Kansas City alumni to deepen connections\, recharge\, and reimagine what collective impact can look and feel like in KC!
URL:https://surgeinstitute.org/event/kansas-city-alumni-weekend/
LOCATION:PA
CATEGORIES:In-person,Kansas City,Surge Academy
ATTACH;FMTTYPE=image/jpeg:https://surgeinstitute.org/wp-content/uploads/2026/04/KC-Alumni-Weekend-2026.jpg
END:VEVENT
END:VCALENDAR