BEGIN:VCALENDAR
VERSION:2.0
PRODID:-//Surge Institute - ECPv6.15.20//NONSGML v1.0//EN
CALSCALE:GREGORIAN
METHOD:PUBLISH
X-ORIGINAL-URL:https://surgeinstitute.org
X-WR-CALDESC:Events for Surge Institute
REFRESH-INTERVAL;VALUE=DURATION:PT1H
X-Robots-Tag:noindex
X-PUBLISHED-TTL:PT1H
BEGIN:VTIMEZONE
TZID:America/Detroit
BEGIN:DAYLIGHT
TZOFFSETFROM:-0500
TZOFFSETTO:-0400
TZNAME:EDT
DTSTART:20230312T070000
END:DAYLIGHT
BEGIN:STANDARD
TZOFFSETFROM:-0400
TZOFFSETTO:-0500
TZNAME:EST
DTSTART:20231105T060000
END:STANDARD
BEGIN:DAYLIGHT
TZOFFSETFROM:-0500
TZOFFSETTO:-0400
TZNAME:EDT
DTSTART:20240310T070000
END:DAYLIGHT
BEGIN:STANDARD
TZOFFSETFROM:-0400
TZOFFSETTO:-0500
TZNAME:EST
DTSTART:20241103T060000
END:STANDARD
BEGIN:DAYLIGHT
TZOFFSETFROM:-0500
TZOFFSETTO:-0400
TZNAME:EDT
DTSTART:20250309T070000
END:DAYLIGHT
BEGIN:STANDARD
TZOFFSETFROM:-0400
TZOFFSETTO:-0500
TZNAME:EST
DTSTART:20251102T060000
END:STANDARD
BEGIN:DAYLIGHT
TZOFFSETFROM:-0500
TZOFFSETTO:-0400
TZNAME:EDT
DTSTART:20260308T070000
END:DAYLIGHT
BEGIN:STANDARD
TZOFFSETFROM:-0400
TZOFFSETTO:-0500
TZNAME:EST
DTSTART:20261101T060000
END:STANDARD
END:VTIMEZONE
BEGIN:VTIMEZONE
TZID:America/New_York
BEGIN:DAYLIGHT
TZOFFSETFROM:-0500
TZOFFSETTO:-0400
TZNAME:EDT
DTSTART:20220313T070000
END:DAYLIGHT
BEGIN:STANDARD
TZOFFSETFROM:-0400
TZOFFSETTO:-0500
TZNAME:EST
DTSTART:20221106T060000
END:STANDARD
BEGIN:DAYLIGHT
TZOFFSETFROM:-0500
TZOFFSETTO:-0400
TZNAME:EDT
DTSTART:20230312T070000
END:DAYLIGHT
BEGIN:STANDARD
TZOFFSETFROM:-0400
TZOFFSETTO:-0500
TZNAME:EST
DTSTART:20231105T060000
END:STANDARD
BEGIN:DAYLIGHT
TZOFFSETFROM:-0500
TZOFFSETTO:-0400
TZNAME:EDT
DTSTART:20240310T070000
END:DAYLIGHT
BEGIN:STANDARD
TZOFFSETFROM:-0400
TZOFFSETTO:-0500
TZNAME:EST
DTSTART:20241103T060000
END:STANDARD
BEGIN:DAYLIGHT
TZOFFSETFROM:-0500
TZOFFSETTO:-0400
TZNAME:EDT
DTSTART:20250309T070000
END:DAYLIGHT
BEGIN:STANDARD
TZOFFSETFROM:-0400
TZOFFSETTO:-0500
TZNAME:EST
DTSTART:20251102T060000
END:STANDARD
END:VTIMEZONE
BEGIN:VTIMEZONE
TZID:America/Chicago
BEGIN:DAYLIGHT
TZOFFSETFROM:-0600
TZOFFSETTO:-0500
TZNAME:CDT
DTSTART:20230312T080000
END:DAYLIGHT
BEGIN:STANDARD
TZOFFSETFROM:-0500
TZOFFSETTO:-0600
TZNAME:CST
DTSTART:20231105T070000
END:STANDARD
BEGIN:DAYLIGHT
TZOFFSETFROM:-0600
TZOFFSETTO:-0500
TZNAME:CDT
DTSTART:20240310T080000
END:DAYLIGHT
BEGIN:STANDARD
TZOFFSETFROM:-0500
TZOFFSETTO:-0600
TZNAME:CST
DTSTART:20241103T070000
END:STANDARD
BEGIN:DAYLIGHT
TZOFFSETFROM:-0600
TZOFFSETTO:-0500
TZNAME:CDT
DTSTART:20250309T080000
END:DAYLIGHT
BEGIN:STANDARD
TZOFFSETFROM:-0500
TZOFFSETTO:-0600
TZNAME:CST
DTSTART:20251102T070000
END:STANDARD
END:VTIMEZONE
BEGIN:VEVENT
DTSTART;TZID=America/Detroit:20250605T160000
DTEND;TZID=America/Detroit:20250605T180000
DTSTAMP:20260423T135727
CREATED:20250506T171240Z
LAST-MODIFIED:20250506T171240Z
UID:10000050-1749139200-1749146400@surgeinstitute.org
SUMMARY:Surge Academy Detroit #LeadTheSurge Event
DESCRIPTION:Join us in Detroit for our #LeadtheSurge event on June 5th! As we close out our recruitment season\, we’re hosting a vibrant celebration to honor our incredible local partners and alumni. This event is also your chance to meet and engage with other prospective fellows\, who are poised to make a significant impact in the communities they serve. \nEnjoy inspiring stories\, lively networking\, and a chance to learn more about our fellowship program. It’s a fantastic opportunity to connect with like-minded individuals and be part of our movement of change.
URL:https://surgeinstitute.org/event/surge-academy-detroit-leadthesurge-event/
CATEGORIES:Detroit,In-person,Surge Academy
ATTACH;FMTTYPE=image/png:https://surgeinstitute.org/wp-content/uploads/2025/05/6.5.25-Event-DET26-LeadTheSurge-16x9-1.png
END:VEVENT
BEGIN:VEVENT
DTSTART;TZID=America/Detroit:20250325T120000
DTEND;TZID=America/Detroit:20250325T130000
DTSTAMP:20260423T135727
CREATED:20250228T182759Z
LAST-MODIFIED:20250228T183225Z
UID:10000044-1742904000-1742907600@surgeinstitute.org
SUMMARY:Virtual Lunch & Learn: Surge Academy Detroit Informational Session!
DESCRIPTION:Mark your calendars for March 25th at 12pm ET and take a step towards a transformative experience with Surge Academy Detroit. This engaging virtual event\, hosted via Zoom\, is your gateway to learning more about our fellowship program designed to empower and uplift emerging leaders in education and social impact. \nSurge Academy is more than just a program; it’s a movement. Our mission is to cultivate a diverse community of leaders committed to creating equitable opportunities in education. In this session\, you’ll hear from alumni\, meet our Executive Director\, and get a glimpse into the impact that Surge Academy Detroit has on its participants and their communities.
URL:https://surgeinstitute.org/event/virtual-lunch-learn-surge-academy-detroit-informational-session/
LOCATION:Virtual
CATEGORIES:Detroit,Surge Academy,Virtual
ATTACH;FMTTYPE=image/png:https://surgeinstitute.org/wp-content/uploads/2025/02/3.25.25-Event-Lunch-Learn-Detroit-16x9-1.png
END:VEVENT
BEGIN:VEVENT
DTSTART;TZID=America/New_York:20240523T173000
DTEND;TZID=America/New_York:20240523T193000
DTSTAMP:20260423T135727
CREATED:20240427T032735Z
LAST-MODIFIED:20240427T032735Z
UID:10000027-1716485400-1716492600@surgeinstitute.org
SUMMARY:Ignite & Inspire: What Could Restoration & Healing for Detroit Black and Brown Educators Look Like?
DESCRIPTION:Ignite & Inspire – A Conversation : What Could Restoration and Healing for Detroit Black and Brown Educators Look Like? Come join us to explore and discuss opportunities to support the success and sustainability of Detroit’s Black and Brown education leaders. Terrence Pruitt\, the Co-Founder of Project Restore\, a Surge Alumni\, and the Program Director of Detroit’s 2025 Surge Academy\, will lead us in a session that centers participants’ humanity\, examines issues impacting their leadership\, and provides them tools that support their ability to create healings spaces for themselves and the communities they serve.
URL:https://surgeinstitute.org/event/ignite-inspire-what-could-restoration-healing-for-detroit-black-and-brown-educators-look-like/
LOCATION:Bamboo Co-Working Detroit\, 1420 Washington Blvd Ste 301\, Detroit\, MI\, 48226\, United States
CATEGORIES:Detroit,In-person
ATTACH;FMTTYPE=image/webp:https://surgeinstitute.org/wp-content/uploads/2024/04/5.23.24-Event-Detroit-Launch-16x9-1.webp
END:VEVENT
BEGIN:VEVENT
DTSTART;TZID=America/Chicago:20240321T173000
DTEND;TZID=America/Chicago:20240321T193000
DTSTAMP:20260423T135727
CREATED:20240209T025426Z
LAST-MODIFIED:20240221T211934Z
UID:10000024-1711042200-1711049400@surgeinstitute.org
SUMMARY:Ignite & Inspire: A Journey of Restoration and Healing for Detroit Black and Brown Educators
DESCRIPTION:Come join us to explore and discuss opportunities to support the success and sustainability of Detroit’s Black and Brown education leaders. \nTerrence Pruitt\, the Co-Founder of Project Restore\, a Surge Alumni\, and the Program Director of Detroit’s 2025 Surge Academy\, will lead us in a session that centers participants’ humanity\, examines issues impacting their leadership\, and provides them tools that support their ability to create healings spaces for themselves and the communities they serve.
URL:https://surgeinstitute.org/event/ignite-inspire-surge-academy-detroit-launch-mixer/
LOCATION:The Raw Space\, 8420 W McNichols Rd\, Detroit\, MI\, 48221\, United States
CATEGORIES:Detroit,In-person
ATTACH;FMTTYPE=image/png:https://surgeinstitute.org/wp-content/uploads/2024/02/3.21.24-Event-Detroit-Launch16x9.png
END:VEVENT
BEGIN:VEVENT
DTSTART;TZID=America/Detroit:20240201T160000
DTEND;TZID=America/Detroit:20240201T170000
DTSTAMP:20260423T135727
CREATED:20240119T014819Z
LAST-MODIFIED:20240119T014819Z
UID:10000018-1706803200-1706806800@surgeinstitute.org
SUMMARY:Surge Academy Detroit Launch Event - Igniting Your Leadership Journey (Virtual)
DESCRIPTION:Are you ready to embark on a transformative journey that will shape your leadership skills and empower you to drive positive change in your community? Join us for Detroit Surge Academy’s Virtual Recruitment Event as we launch our highly anticipated 6-month program in 2024!
URL:https://surgeinstitute.org/event/surge-academy-detroit-launch-event-igniting-your-leadership-journey-virtual/
LOCATION:Virtual
CATEGORIES:Detroit,Virtual
ATTACH;FMTTYPE=image/png:https://surgeinstitute.org/wp-content/uploads/2024/01/2.1.24-Event-Detroit-Launch-16x9-1.png
END:VEVENT
BEGIN:VEVENT
DTSTART;TZID=America/New_York:20231212T120000
DTEND;TZID=America/New_York:20231212T130000
DTSTAMP:20260423T135727
CREATED:20231120T155130Z
LAST-MODIFIED:20231121T104318Z
UID:10000010-1702382400-1702386000@surgeinstitute.org
SUMMARY:Trailblazer and Change-making with Surge alumna Cassie Williams
DESCRIPTION:Join us for an inspiring virtual event as we shine a spotlight on a trailblazer and change-maker\, Cassie Williams\, a distinguished Surge alumna and the Executive Director of K-12 Literacy at the Detroit Public Schools Community District. Cassie’s journey exemplifies the transformative power of the Surge program\, and we invite you to learn more about her leadership in the realm of education and why you should consider joining the Surge movement.
URL:https://surgeinstitute.org/event/trailblazer-and-change-making-with-surge-alumna-cassie-williams/
CATEGORIES:Detroit,Surge Academy,Virtual
ATTACH;FMTTYPE=image/jpeg:https://surgeinstitute.org/wp-content/uploads/2023/11/12.12.23-det-ll.jpg
END:VEVENT
BEGIN:VEVENT
DTSTART;TZID=America/New_York:20231129T180000
DTEND;TZID=America/New_York:20231129T190000
DTSTAMP:20260423T135727
CREATED:20231118T175255Z
LAST-MODIFIED:20231127T183458Z
UID:10000008-1701280800-1701284400@surgeinstitute.org
SUMMARY:Surge Academy: Empowering Leaders in Cities Across the Country
DESCRIPTION:Join us to learn more about our transformational six-month Surge Academy experience. The Surge Academy explores an innovative and far-reaching approach to reshaping urban education for our youth and communities. Hear from Surge Institute leaders during this virtual mixer and program overview! This event is for those interested in all cities.
URL:https://surgeinstitute.org/event/surge-academy-empowering-leaders-in-cities-across-the-country-6/
LOCATION:Virtual
CATEGORIES:Detroit,Las Vegas,Surge Academy,Virtual,Washington D.C.
ATTACH;FMTTYPE=image/jpeg:https://surgeinstitute.org/wp-content/uploads/2023/11/Surge-Event-All-Academy-Virtual-Meet-and-Greet16x9.jpg
END:VEVENT
END:VCALENDAR