BEGIN:VCALENDAR
VERSION:2.0
PRODID:-//Surge Institute - ECPv6.15.20//NONSGML v1.0//EN
CALSCALE:GREGORIAN
METHOD:PUBLISH
X-ORIGINAL-URL:https://surgeinstitute.org
X-WR-CALDESC:Events for Surge Institute
REFRESH-INTERVAL;VALUE=DURATION:PT1H
X-Robots-Tag:noindex
X-PUBLISHED-TTL:PT1H
BEGIN:VTIMEZONE
TZID:America/Chicago
BEGIN:DAYLIGHT
TZOFFSETFROM:-0600
TZOFFSETTO:-0500
TZNAME:CDT
DTSTART:20240310T080000
END:DAYLIGHT
BEGIN:STANDARD
TZOFFSETFROM:-0500
TZOFFSETTO:-0600
TZNAME:CST
DTSTART:20241103T070000
END:STANDARD
BEGIN:DAYLIGHT
TZOFFSETFROM:-0600
TZOFFSETTO:-0500
TZNAME:CDT
DTSTART:20250309T080000
END:DAYLIGHT
BEGIN:STANDARD
TZOFFSETFROM:-0500
TZOFFSETTO:-0600
TZNAME:CST
DTSTART:20251102T070000
END:STANDARD
BEGIN:DAYLIGHT
TZOFFSETFROM:-0600
TZOFFSETTO:-0500
TZNAME:CDT
DTSTART:20260308T080000
END:DAYLIGHT
BEGIN:STANDARD
TZOFFSETFROM:-0500
TZOFFSETTO:-0600
TZNAME:CST
DTSTART:20261101T070000
END:STANDARD
END:VTIMEZONE
BEGIN:VEVENT
DTSTART;TZID=America/Chicago:20250403T173000
DTEND;TZID=America/Chicago:20250403T203000
DTSTAMP:20260423T132828
CREATED:20250228T183508Z
LAST-MODIFIED:20250317T193607Z
UID:10000046-1743701400-1743712200@surgeinstitute.org
SUMMARY:#LeadTheSurge 2025: The Next Chapter is Ours
DESCRIPTION:We’ve been building\, pushing\, and leading—and we’re just getting started. As Surge Fellowship Chicago steps into the next decade of impact\, this movement matters more than ever. \nJoin us at #LeadTheSurge 2025\, where we’re celebrating Black and Latinx education leaders who are out here disrupting\, elevating\, and shifting the future of education. \nCome through. Meet the folks doing the work. Feel the power of Surge Chicago Fellowship in real time. And if you’re ready to lead the next chapter? Let’s talk.
URL:https://surgeinstitute.org/event/leadthesurge-2025-the-next-chapter-is-ours/
LOCATION:Hue Chicago\, 67 E Cermak Rd\, Chicago\, IL\, 60616\, United States
CATEGORIES:In-person,Surge Fellowship
ATTACH;FMTTYPE=image/png:https://surgeinstitute.org/wp-content/uploads/2025/02/4.3.25-Event-LeadTheSurge-CHI-16x9-1.png
END:VEVENT
END:VCALENDAR