BEGIN:VCALENDAR
VERSION:2.0
PRODID:-//Surge Institute - ECPv6.15.20//NONSGML v1.0//EN
CALSCALE:GREGORIAN
METHOD:PUBLISH
X-WR-CALNAME:Surge Institute
X-ORIGINAL-URL:https://surgeinstitute.org
X-WR-CALDESC:Events for Surge Institute
REFRESH-INTERVAL;VALUE=DURATION:PT1H
X-Robots-Tag:noindex
X-PUBLISHED-TTL:PT1H
BEGIN:VTIMEZONE
TZID:America/Chicago
BEGIN:DAYLIGHT
TZOFFSETFROM:-0600
TZOFFSETTO:-0500
TZNAME:CDT
DTSTART:20230312T080000
END:DAYLIGHT
BEGIN:STANDARD
TZOFFSETFROM:-0500
TZOFFSETTO:-0600
TZNAME:CST
DTSTART:20231105T070000
END:STANDARD
BEGIN:DAYLIGHT
TZOFFSETFROM:-0600
TZOFFSETTO:-0500
TZNAME:CDT
DTSTART:20240310T080000
END:DAYLIGHT
BEGIN:STANDARD
TZOFFSETFROM:-0500
TZOFFSETTO:-0600
TZNAME:CST
DTSTART:20241103T070000
END:STANDARD
BEGIN:DAYLIGHT
TZOFFSETFROM:-0600
TZOFFSETTO:-0500
TZNAME:CDT
DTSTART:20250309T080000
END:DAYLIGHT
BEGIN:STANDARD
TZOFFSETFROM:-0500
TZOFFSETTO:-0600
TZNAME:CST
DTSTART:20251102T070000
END:STANDARD
END:VTIMEZONE
BEGIN:VEVENT
DTSTART;TZID=America/Chicago:20241009T170000
DTEND;TZID=America/Chicago:20241009T203000
DTSTAMP:20260421T202735
CREATED:20241004T193348Z
LAST-MODIFIED:20241004T193348Z
UID:10000041-1728493200-1728505800@surgeinstitute.org
SUMMARY:Cheers to 10 Years: Surge’s Birthday Celebration & CHI25 Welcome!
DESCRIPTION:Next week we’ll be welcoming Chicago’s newest Surge Cohort into the family and celebrating something very special—Surge Institute’s 10th anniversary! It’s gonna be a night full of love\, reflection\, and a whole lot of joy as we look back on a decade of breaking barriers\, uplifting leaders of color\, and igniting transformative change in communities nationwide…and look forward to our next generation of Black and Brown education leaders and the impact they will have on the students of today and tomorrow. \nWe can’t wait to celebrate with you!
URL:https://surgeinstitute.org/event/cheers-to-10-years-surges-birthday-celebration-chi25-welcome/
LOCATION:Loft Lucia 7 N Carpenter St\, Chicago\, IL
CATEGORIES:In-person
ATTACH;FMTTYPE=image/png:https://surgeinstitute.org/wp-content/uploads/2024/10/10.9.24-Event-CHI25-Ascension-Kickoff-16x9-1.png
END:VEVENT
END:VCALENDAR