BEGIN:VCALENDAR
VERSION:2.0
PRODID:-//Surge Institute - ECPv6.15.20//NONSGML v1.0//EN
CALSCALE:GREGORIAN
METHOD:PUBLISH
X-ORIGINAL-URL:https://surgeinstitute.org
X-WR-CALDESC:Events for Surge Institute
REFRESH-INTERVAL;VALUE=DURATION:PT1H
X-Robots-Tag:noindex
X-PUBLISHED-TTL:PT1H
BEGIN:VTIMEZONE
TZID:America/New_York
BEGIN:DAYLIGHT
TZOFFSETFROM:-0500
TZOFFSETTO:-0400
TZNAME:EDT
DTSTART:20230312T070000
END:DAYLIGHT
BEGIN:STANDARD
TZOFFSETFROM:-0400
TZOFFSETTO:-0500
TZNAME:EST
DTSTART:20231105T060000
END:STANDARD
BEGIN:DAYLIGHT
TZOFFSETFROM:-0500
TZOFFSETTO:-0400
TZNAME:EDT
DTSTART:20240310T070000
END:DAYLIGHT
BEGIN:STANDARD
TZOFFSETFROM:-0400
TZOFFSETTO:-0500
TZNAME:EST
DTSTART:20241103T060000
END:STANDARD
BEGIN:DAYLIGHT
TZOFFSETFROM:-0500
TZOFFSETTO:-0400
TZNAME:EDT
DTSTART:20250309T070000
END:DAYLIGHT
BEGIN:STANDARD
TZOFFSETFROM:-0400
TZOFFSETTO:-0500
TZNAME:EST
DTSTART:20251102T060000
END:STANDARD
END:VTIMEZONE
BEGIN:VEVENT
DTSTART;TZID=America/New_York:20240620T173000
DTEND;TZID=America/New_York:20240620T193000
DTSTAMP:20260420T042933
CREATED:20240531T182607Z
LAST-MODIFIED:20240603T174420Z
UID:10000030-1718904600-1718911800@surgeinstitute.org
SUMMARY:Ignite & Inspire: Alumni & Community Leader Roundtable Discussion
DESCRIPTION:Join us for a thought-provoking and impactful event that brings together Surge Academy alumni and other prominent local leaders in the Philadelphia education and youth-serving sector. This roundtable discussion focuses on the unique challenges and opportunities in the local education ecosystem\, providing a platform for dialogue\, networking\, and inspiration.
URL:https://surgeinstitute.org/event/ignite-inspire-alumni-community-leader-rountable-discussion/
LOCATION:Open Space\, 1014 N Marshall St\, Philadelphia\, PA\, 19123\, United States
ATTACH;FMTTYPE=image/png:https://surgeinstitute.org/wp-content/uploads/2024/05/6.20.24-Event-PHILA-Roundtable-16x9-1.png
END:VEVENT
END:VCALENDAR