BEGIN:VCALENDAR
VERSION:2.0
PRODID:-//Surge Institute - ECPv6.15.20//NONSGML v1.0//EN
CALSCALE:GREGORIAN
METHOD:PUBLISH
X-ORIGINAL-URL:https://surgeinstitute.org
X-WR-CALDESC:Events for Surge Institute
REFRESH-INTERVAL;VALUE=DURATION:PT1H
X-Robots-Tag:noindex
X-PUBLISHED-TTL:PT1H
BEGIN:VTIMEZONE
TZID:America/New_York
BEGIN:DAYLIGHT
TZOFFSETFROM:-0500
TZOFFSETTO:-0400
TZNAME:EDT
DTSTART:20230312T070000
END:DAYLIGHT
BEGIN:STANDARD
TZOFFSETFROM:-0400
TZOFFSETTO:-0500
TZNAME:EST
DTSTART:20231105T060000
END:STANDARD
BEGIN:DAYLIGHT
TZOFFSETFROM:-0500
TZOFFSETTO:-0400
TZNAME:EDT
DTSTART:20240310T070000
END:DAYLIGHT
BEGIN:STANDARD
TZOFFSETFROM:-0400
TZOFFSETTO:-0500
TZNAME:EST
DTSTART:20241103T060000
END:STANDARD
BEGIN:DAYLIGHT
TZOFFSETFROM:-0500
TZOFFSETTO:-0400
TZNAME:EDT
DTSTART:20250309T070000
END:DAYLIGHT
BEGIN:STANDARD
TZOFFSETFROM:-0400
TZOFFSETTO:-0500
TZNAME:EST
DTSTART:20251102T060000
END:STANDARD
END:VTIMEZONE
BEGIN:VEVENT
DTSTART;TZID=America/New_York:20240605T130000
DTEND;TZID=America/New_York:20240605T140000
DTSTAMP:20260420T012217
CREATED:20240531T153254Z
LAST-MODIFIED:20240531T153351Z
UID:10000029-1717592400-1717596000@surgeinstitute.org
SUMMARY:Speaking Truth in Power: A Panel of Detroit Leaders
DESCRIPTION:“Speaking Truth in Power”: How Detroit Leaders are creating opportunities of Change Speaking Truth in Power” is an upcoming virtual event scheduled for June 5th via Zoom. This event is designed to showcase a panel of Detroit leaders of color who are making significant impacts in the city’s education and youth-serving sectors. The purpose of this event is to highlight the transformative work these leaders are doing in Detroit and to discuss how they are creating opportunities for change within their communities.
URL:https://surgeinstitute.org/event/speaking-truth-in-power-a-panel-of-detroit-leaders/
LOCATION:Virtual
ATTACH;FMTTYPE=image/jpeg:https://surgeinstitute.org/wp-content/uploads/2024/05/6.5.24-Event-Detroit-Panel-16x9-1.jpg
END:VEVENT
END:VCALENDAR